Package: ChIPexoQualExample Version: 1.24.0 Command: /home/biocbuild/bbs-3.17-bioc/R/bin/R CMD INSTALL ChIPexoQualExample StartedAt: 2023-10-12 10:00:37 -0400 (Thu, 12 Oct 2023) EndedAt: 2023-10-12 10:00:38 -0400 (Thu, 12 Oct 2023) EllapsedTime: 1.9 seconds RetCode: 0 Status: OK