Package: ChIPexoQualExample Version: 1.24.0 Command: /home/biocbuild/bbs-3.17-bioc/R/bin/R CMD check --install=check:ChIPexoQualExample.install-out.txt --library=/home/biocbuild/bbs-3.17-bioc/R/site-library --timings ChIPexoQualExample_1.24.0.tar.gz StartedAt: 2023-10-12 11:05:55 -0400 (Thu, 12 Oct 2023) EndedAt: 2023-10-12 11:06:14 -0400 (Thu, 12 Oct 2023) EllapsedTime: 19.3 seconds RetCode: 0 Status: OK CheckDir: ChIPexoQualExample.Rcheck Warnings: 0