Package: ChIPexoQualExample Version: 1.24.0 Command: /home/biocbuild/bbs-3.17-bioc/R/bin/R CMD build --keep-empty-dirs --no-resave-data ChIPexoQualExample StartedAt: 2023-10-12 10:17:02 -0400 (Thu, 12 Oct 2023) EndedAt: 2023-10-12 10:17:17 -0400 (Thu, 12 Oct 2023) EllapsedTime: 15.0 seconds RetCode: 0 Status: OK PackageFile: ChIPexoQualExample_1.24.0.tar.gz PackageFileSize: 152.3 MiB