git_url: https://git.bioconductor.org/packages/ChIPexoQualExample git_branch: RELEASE_3_17 git_last_commit: 25649ef git_last_commit_date: 2023-04-25 10:43:55 -0400 (Tue, 25 Apr 2023) Package: ChIPexoQualExample Version: 1.24.0 Maintainer: Rene Welch MaintainerEmail: welch at stat.wisc.edu