Package: COSMIC.67 Version: 1.36.0 Command: /home/biocbuild/bbs-3.17-bioc/R/bin/R CMD check --install=check:COSMIC.67.install-out.txt --library=/home/biocbuild/bbs-3.17-bioc/R/site-library --timings COSMIC.67_1.36.0.tar.gz StartedAt: 2023-10-12 11:09:32 -0400 (Thu, 12 Oct 2023) EndedAt: 2023-10-12 11:14:42 -0400 (Thu, 12 Oct 2023) EllapsedTime: 310.0 seconds RetCode: 0 Status: OK CheckDir: COSMIC.67.Rcheck Warnings: 0