Package: COSMIC.67 Version: 1.36.0 Command: /home/biocbuild/bbs-3.17-bioc/R/bin/R CMD build --keep-empty-dirs --no-resave-data COSMIC.67 StartedAt: 2023-10-12 10:19:22 -0400 (Thu, 12 Oct 2023) EndedAt: 2023-10-12 10:20:27 -0400 (Thu, 12 Oct 2023) EllapsedTime: 65.2 seconds RetCode: 0 Status: OK PackageFile: COSMIC.67_1.36.0.tar.gz PackageFileSize: 39.18 MiB