Package: CCl4 Version: 1.38.0 Command: /home/biocbuild/bbs-3.17-bioc/R/bin/R CMD check --install=check:CCl4.install-out.txt --library=/home/biocbuild/bbs-3.17-bioc/R/site-library --timings CCl4_1.38.0.tar.gz StartedAt: 2023-10-12 11:03:48 -0400 (Thu, 12 Oct 2023) EndedAt: 2023-10-12 11:05:32 -0400 (Thu, 12 Oct 2023) EllapsedTime: 104.0 seconds RetCode: 0 Status: WARNINGS CheckDir: CCl4.Rcheck Warnings: 1