Package: AneuFinderData Version: 1.28.0 Command: /home/biocbuild/bbs-3.17-bioc/R/bin/R CMD check --install=check:AneuFinderData.install-out.txt --library=/home/biocbuild/bbs-3.17-bioc/R/site-library --timings AneuFinderData_1.28.0.tar.gz StartedAt: 2023-10-12 10:59:13 -0400 (Thu, 12 Oct 2023) EndedAt: 2023-10-12 10:59:26 -0400 (Thu, 12 Oct 2023) EllapsedTime: 13.3 seconds RetCode: 0 Status: WARNINGS CheckDir: AneuFinderData.Rcheck Warnings: 1