Package: AneuFinderData Version: 1.28.0 Command: /home/biocbuild/bbs-3.17-bioc/R/bin/R CMD build --keep-empty-dirs --no-resave-data AneuFinderData StartedAt: 2023-10-12 10:13:32 -0400 (Thu, 12 Oct 2023) EndedAt: 2023-10-12 10:13:38 -0400 (Thu, 12 Oct 2023) EllapsedTime: 5.9 seconds RetCode: 0 Status: OK PackageFile: AneuFinderData_1.28.0.tar.gz PackageFileSize: 57.02 MiB