Package: Affymoe4302Expr Version: 1.38.0 Command: /home/biocbuild/bbs-3.17-bioc/R/bin/R CMD check --install=check:Affymoe4302Expr.install-out.txt --library=/home/biocbuild/bbs-3.17-bioc/R/site-library --timings Affymoe4302Expr_1.38.0.tar.gz StartedAt: 2023-10-12 10:59:13 -0400 (Thu, 12 Oct 2023) EndedAt: 2023-10-12 10:59:42 -0400 (Thu, 12 Oct 2023) EllapsedTime: 28.7 seconds RetCode: 0 Status: OK CheckDir: Affymoe4302Expr.Rcheck Warnings: 0