git_url: https://git.bioconductor.org/packages/Affymoe4302Expr git_branch: RELEASE_3_17 git_last_commit: adeeedd git_last_commit_date: 2023-04-25 10:35:10 -0400 (Tue, 25 Apr 2023) Package: Affymoe4302Expr Version: 1.38.0 Maintainer: Zhicheng Ji MaintainerEmail: zji4 at jhu.edu