git_url: https://git.bioconductor.org/packages/Affyhgu133A2Expr git_branch: RELEASE_3_17 git_last_commit: 212085e git_last_commit_date: 2023-04-25 10:35:18 -0400 (Tue, 25 Apr 2023) Package: Affyhgu133A2Expr Version: 1.36.0 Maintainer: Zhicheng Ji MaintainerEmail: zji4 at jhu.edu