Package: ARRmData Version: 1.36.0 Command: /home/biocbuild/bbs-3.17-bioc/R/bin/R CMD check --install=check:ARRmData.install-out.txt --library=/home/biocbuild/bbs-3.17-bioc/R/site-library --timings ARRmData_1.36.0.tar.gz StartedAt: 2023-10-12 10:59:31 -0400 (Thu, 12 Oct 2023) EndedAt: 2023-10-12 11:00:00 -0400 (Thu, 12 Oct 2023) EllapsedTime: 28.9 seconds RetCode: 0 Status: OK CheckDir: ARRmData.Rcheck Warnings: 0