Package: ARRmData Version: 1.36.0 Command: /home/biocbuild/bbs-3.17-bioc/R/bin/R CMD build --keep-empty-dirs --no-resave-data ARRmData StartedAt: 2023-10-12 10:13:36 -0400 (Thu, 12 Oct 2023) EndedAt: 2023-10-12 10:13:41 -0400 (Thu, 12 Oct 2023) EllapsedTime: 4.8 seconds RetCode: 0 Status: OK PackageFile: ARRmData_1.36.0.tar.gz PackageFileSize: 56.51 MiB