git_url: https://git.bioconductor.org/packages/ALL git_branch: RELEASE_3_17 git_last_commit: 38b34b0 git_last_commit_date: 2023-04-25 09:48:46 -0400 (Tue, 25 Apr 2023) Package: ALL Version: 1.42.0 Maintainer: Robert Gentleman MaintainerEmail: rgentlem at gmail.com