Package: synaptome.db Version: 0.99.12 Command: /home/biocbuild/bbs-3.17-bioc/R/bin/R CMD INSTALL synaptome.db StartedAt: 2023-10-11 05:30:24 -0400 (Wed, 11 Oct 2023) EndedAt: 2023-10-11 05:30:52 -0400 (Wed, 11 Oct 2023) EllapsedTime: 27.9 seconds RetCode: 0 Status: OK