Package: chromhmmData Version: 0.99.2 Command: /home/biocbuild/bbs-3.17-bioc/R/bin/R CMD INSTALL chromhmmData StartedAt: 2023-10-11 05:30:08 -0400 (Wed, 11 Oct 2023) EndedAt: 2023-10-11 05:30:10 -0400 (Wed, 11 Oct 2023) EllapsedTime: 2.5 seconds RetCode: 0 Status: OK