Package: chromhmmData Version: 0.99.2 Command: /home/biocbuild/bbs-3.17-bioc/R/bin/R CMD check --install=check:chromhmmData.install-out.txt --library=/home/biocbuild/bbs-3.17-bioc/R/site-library --timings chromhmmData_0.99.2.tar.gz StartedAt: 2023-10-11 05:32:59 -0400 (Wed, 11 Oct 2023) EndedAt: 2023-10-11 05:33:09 -0400 (Wed, 11 Oct 2023) EllapsedTime: 9.6 seconds RetCode: 0 Status: OK CheckDir: chromhmmData.Rcheck Warnings: 0