Package: chromhmmData Version: 0.99.2 Command: /home/biocbuild/bbs-3.17-bioc/R/bin/R CMD build --keep-empty-dirs --no-resave-data chromhmmData StartedAt: 2023-10-11 05:31:03 -0400 (Wed, 11 Oct 2023) EndedAt: 2023-10-11 05:31:07 -0400 (Wed, 11 Oct 2023) EllapsedTime: 3.9 seconds RetCode: 0 Status: OK PackageFile: chromhmmData_0.99.2.tar.gz PackageFileSize: 12.48 MiB