git_url: https://git.bioconductor.org/packages/UniProtKeywords git_branch: RELEASE_3_17 git_last_commit: f2bc0b2 git_last_commit_date: 2023-03-29 06:34:54 -0400 (Wed, 29 Mar 2023) Package: UniProtKeywords Version: 0.99.6 Maintainer: Zuguang Gu MaintainerEmail: z.gu at dkfz.de