Package: PANTHER.db Version: 1.0.10 Command: /home/biocbuild/bbs-3.17-bioc/R/bin/R CMD build --keep-empty-dirs --no-resave-data PANTHER.db StartedAt: 2023-10-11 05:31:42 -0400 (Wed, 11 Oct 2023) EndedAt: 2023-10-11 05:32:14 -0400 (Wed, 11 Oct 2023) EllapsedTime: 32.4 seconds RetCode: 0 Status: OK PackageFile: PANTHER.db_1.0.10.tar.gz PackageFileSize: 316.7 KiB