Package: CTCF Version: 0.99.11 Command: /home/biocbuild/bbs-3.17-bioc/R/bin/R CMD build --keep-empty-dirs --no-resave-data CTCF StartedAt: 2023-10-11 05:31:03 -0400 (Wed, 11 Oct 2023) EndedAt: 2023-10-11 05:31:55 -0400 (Wed, 11 Oct 2023) EllapsedTime: 52.7 seconds RetCode: 0 Status: OK PackageFile: CTCF_0.99.11.tar.gz PackageFileSize: 3.011 MiB