Package: AHEnsDbs Version: 1.1.10 Command: /home/biocbuild/bbs-3.17-bioc/R/bin/R CMD build --keep-empty-dirs --no-resave-data AHEnsDbs StartedAt: 2023-10-11 05:31:03 -0400 (Wed, 11 Oct 2023) EndedAt: 2023-10-11 05:31:49 -0400 (Wed, 11 Oct 2023) EllapsedTime: 46.6 seconds RetCode: 0 Status: OK PackageFile: AHEnsDbs_1.1.10.tar.gz PackageFileSize: 465.7 KiB