Package: SingleRBook Version: 1.10.0 Command: /home/biocbuild/bbs-3.17-bioc/R/bin/R CMD INSTALL SingleRBook StartedAt: 2023-10-16 07:00:08 -0400 (Mon, 16 Oct 2023) EndedAt: 2023-10-16 07:00:38 -0400 (Mon, 16 Oct 2023) EllapsedTime: 30.8 seconds RetCode: 0 Status: OK