Package: SingleRBook Version: 1.10.0 Command: /home/biocbuild/bbs-3.17-bioc/R/bin/R CMD build --keep-empty-dirs --no-resave-data SingleRBook StartedAt: 2023-10-16 07:01:56 -0400 (Mon, 16 Oct 2023) EndedAt: 2023-10-16 07:34:02 -0400 (Mon, 16 Oct 2023) EllapsedTime: 1926.2 seconds RetCode: 1 Status: ERROR PackageFile: None PackageFileSize: NA