git_url: https://git.bioconductor.org/packages/SingleRBook git_branch: RELEASE_3_17 git_last_commit: 03c23c7 git_last_commit_date: 2023-04-25 09:40:40 -0400 (Tue, 25 Apr 2023) Package: SingleRBook Version: 1.10.0 Maintainer: Aaron Lun MaintainerEmail: infinite.monkeys.with.keyboards at gmail.com