Package: OSCA Version: 1.10.1 Command: /home/biocbuild/bbs-3.17-bioc/R/bin/R CMD INSTALL OSCA StartedAt: 2023-10-16 07:00:07 -0400 (Mon, 16 Oct 2023) EndedAt: 2023-10-16 07:00:10 -0400 (Mon, 16 Oct 2023) EllapsedTime: 2.4 seconds RetCode: 0 Status: OK