Package: OSCA Version: 1.10.1 Command: /home/biocbuild/bbs-3.17-bioc/R/bin/R CMD build --keep-empty-dirs --no-resave-data OSCA StartedAt: 2023-10-16 07:01:56 -0400 (Mon, 16 Oct 2023) EndedAt: 2023-10-16 07:02:10 -0400 (Mon, 16 Oct 2023) EllapsedTime: 14.0 seconds RetCode: 0 Status: OK PackageFile: OSCA_1.10.1.tar.gz PackageFileSize: 432.2 KiB