Package: xcore Version: 1.3.0 Command: rm -rf xcore.buildbin-libdir && mkdir xcore.buildbin-libdir && F:\biocbuild\bbs-3.17-bioc\R\bin\R.exe CMD INSTALL --build --library=xcore.buildbin-libdir xcore_1.3.0.tar.gz StartedAt: 2022-12-29 05:54:42 -0500 (Thu, 29 Dec 2022) EndedAt: 2022-12-29 05:55:03 -0500 (Thu, 29 Dec 2022) EllapsedTime: 20.9 seconds RetCode: 0 Status: OK PackageFile: xcore_1.3.0.zip PackageFileSize: 1.838 MiB