git_url: https://git.bioconductor.org/packages/tRNAdbImport git_branch: master git_last_commit: 36c79b7 git_last_commit_date: 2022-11-01 11:18:46 -0500 (Tue, 01 Nov 2022) Package: tRNAdbImport Version: 1.17.0 Maintainer: Felix G.M. Ernst MaintainerEmail: felix.gm.ernst at outlook.com