Package: svaRetro Version: 1.5.0 Command: chmod a+r svaRetro -R && F:\biocbuild\bbs-3.17-bioc\R\bin\R.exe CMD build --keep-empty-dirs --no-resave-data svaRetro StartedAt: 2022-12-28 20:54:20 -0500 (Wed, 28 Dec 2022) EndedAt: 2022-12-28 20:55:25 -0500 (Wed, 28 Dec 2022) EllapsedTime: 64.9 seconds RetCode: 0 Status: OK PackageFile: svaRetro_1.5.0.tar.gz PackageFileSize: 1.492 MiB