Package: spqn Version: 1.11.0 Command: F:\biocbuild\bbs-3.17-bioc\R\bin\R.exe CMD INSTALL spqn StartedAt: 2022-12-28 15:41:43 -0500 (Wed, 28 Dec 2022) EndedAt: 2022-12-28 15:42:09 -0500 (Wed, 28 Dec 2022) EllapsedTime: 26.0 seconds RetCode: 0 Status: OK