Package: sparrow Version: 1.5.0 Command: F:\biocbuild\bbs-3.17-bioc\R\bin\R.exe CMD INSTALL sparrow StartedAt: 2022-12-28 16:02:24 -0500 (Wed, 28 Dec 2022) EndedAt: 2022-12-28 16:03:00 -0500 (Wed, 28 Dec 2022) EllapsedTime: 36.4 seconds RetCode: 0 Status: OK