Package: sparrow Version: 1.5.0 Command: rm -rf sparrow.buildbin-libdir && mkdir sparrow.buildbin-libdir && F:\biocbuild\bbs-3.17-bioc\R\bin\R.exe CMD INSTALL --build --library=sparrow.buildbin-libdir sparrow_1.5.0.tar.gz StartedAt: 2022-12-29 05:47:17 -0500 (Thu, 29 Dec 2022) EndedAt: 2022-12-29 05:48:01 -0500 (Thu, 29 Dec 2022) EllapsedTime: 44.4 seconds RetCode: 0 Status: OK PackageFile: sparrow_1.5.0.zip PackageFileSize: 4.332 MiB