Package: slingshot Version: 2.7.0 Command: F:\biocbuild\bbs-3.17-bioc\R\bin\R.exe CMD INSTALL slingshot StartedAt: 2022-12-28 15:37:02 -0500 (Wed, 28 Dec 2022) EndedAt: 2022-12-28 15:37:30 -0500 (Wed, 28 Dec 2022) EllapsedTime: 28.2 seconds RetCode: 0 Status: OK