Package: slingshot Version: 2.7.0 Command: chmod a+r slingshot -R && F:\biocbuild\bbs-3.17-bioc\R\bin\R.exe CMD build --keep-empty-dirs --no-resave-data slingshot StartedAt: 2022-12-28 20:41:14 -0500 (Wed, 28 Dec 2022) EndedAt: 2022-12-28 20:42:08 -0500 (Wed, 28 Dec 2022) EllapsedTime: 53.4 seconds RetCode: 0 Status: OK PackageFile: slingshot_2.7.0.tar.gz PackageFileSize: 1.22 MiB