Package: slingshot Version: 2.7.0 Command: rm -rf slingshot.buildbin-libdir && mkdir slingshot.buildbin-libdir && F:\biocbuild\bbs-3.17-bioc\R\bin\R.exe CMD INSTALL --build --library=slingshot.buildbin-libdir slingshot_2.7.0.tar.gz StartedAt: 2022-12-29 05:46:44 -0500 (Thu, 29 Dec 2022) EndedAt: 2022-12-29 05:47:14 -0500 (Thu, 29 Dec 2022) EllapsedTime: 30.1 seconds RetCode: 0 Status: OK PackageFile: slingshot_2.7.0.zip PackageFileSize: 1.553 MiB