Package: skewr Version: 1.31.0 Command: chmod a+r skewr -R && F:\biocbuild\bbs-3.17-bioc\R\bin\R.exe CMD build --keep-empty-dirs --no-resave-data skewr StartedAt: 2022-12-28 20:41:11 -0500 (Wed, 28 Dec 2022) EndedAt: 2022-12-28 20:44:18 -0500 (Wed, 28 Dec 2022) EllapsedTime: 186.8 seconds RetCode: 0 Status: OK PackageFile: skewr_1.31.0.tar.gz PackageFileSize: 399.7 KiB