Package: skewr Version: 1.31.0 Command: rm -rf skewr.buildbin-libdir && mkdir skewr.buildbin-libdir && F:\biocbuild\bbs-3.17-bioc\R\bin\R.exe CMD INSTALL --build --library=skewr.buildbin-libdir skewr_1.31.0.tar.gz StartedAt: 2022-12-29 05:46:34 -0500 (Thu, 29 Dec 2022) EndedAt: 2022-12-29 05:47:23 -0500 (Thu, 29 Dec 2022) EllapsedTime: 49.7 seconds RetCode: 0 Status: OK PackageFile: skewr_1.31.0.zip PackageFileSize: 394 KiB