| Back to Build/check report for BioC 3.17 |
|
This page was generated on 2023-01-02 09:00:16 -0500 (Mon, 02 Jan 2023).
| Hostname | OS | Arch (*) | R version | Installed pkgs |
|---|---|---|---|---|
| palomino5 | Windows Server 2022 Datacenter | x64 | R Under development (unstable) (2022-12-25 r83502 ucrt) -- "Unsuffered Consequences" | 4165 |
| Click on any hostname to see more info about the system (e.g. compilers) (*) as reported by 'uname -p', except on Windows and Mac OS X | ||||
|
To the developers/maintainers of the sincell package: Make sure to use the following settings in order to reproduce any error or warning you see on this page. |
| Package 1866/2158 | Hostname | OS / Arch | INSTALL | BUILD | CHECK | BUILD BIN | ||||||||
| sincell 1.31.0 (landing page) Miguel Julia
| palomino5 | Windows Server 2022 Datacenter / x64 | OK | OK | OK | OK | ||||||||