| Back to Build/check report for BioC 3.17 | 
 | 
This page was generated on 2023-01-02 09:00:51 -0500 (Mon, 02 Jan 2023).
| Hostname | OS | Arch (*) | R version | Installed pkgs | 
|---|---|---|---|---|
| palomino5 | Windows Server 2022 Datacenter | x64 | R Under development (unstable) (2022-12-25 r83502 ucrt) -- "Unsuffered Consequences" | 4165 | 
| Click on any hostname to see more info about the system (e.g. compilers) (*) as reported by 'uname -p', except on Windows and Mac OS X | ||||
| To the developers/maintainers of the signeR package: Make sure to use the following settings in order to reproduce any error or warning you see on this page. | 
| Package 1851/2158 | Hostname | OS / Arch | INSTALL | BUILD | CHECK | BUILD BIN | ||||||||
| signeR 2.1.0  (landing page) Renan Valieris 
 | palomino5 | Windows Server 2022 Datacenter / x64 | OK | OK | OK | OK | ||||||||
| Package: signeR | 
| Version: 2.1.0 | 
| Command: rm -rf signeR.buildbin-libdir && mkdir signeR.buildbin-libdir && F:\biocbuild\bbs-3.17-bioc\R\bin\R.exe CMD INSTALL --build --library=signeR.buildbin-libdir signeR_2.1.0.tar.gz | 
| StartedAt: 2022-12-29 05:45:36 -0500 (Thu, 29 Dec 2022) | 
| EndedAt: 2022-12-29 05:47:07 -0500 (Thu, 29 Dec 2022) | 
| EllapsedTime: 91.3 seconds | 
| RetCode: 0 | 
| Status: OK | 
| PackageFile: signeR_2.1.0.zip | 
| PackageFileSize: 2.877 MiB | 
##############################################################################
##############################################################################
###
### Running command:
###
###   rm -rf signeR.buildbin-libdir && mkdir signeR.buildbin-libdir && F:\biocbuild\bbs-3.17-bioc\R\bin\R.exe CMD INSTALL --build --library=signeR.buildbin-libdir signeR_2.1.0.tar.gz
###
##############################################################################
##############################################################################
* installing *source* package 'signeR' ...
** using staged installation
** libs
using C compiler: 'gcc.exe (GCC) 12.2.0'
using C++ compiler: 'G__~1.EXE (GCC) 12.2.0'
using C++11
g++  -std=gnu++11 -I"F:/biocbuild/bbs-3.17-bioc/R/include" -DNDEBUG  -I'F:/biocbuild/bbs-3.17-bioc/R/library/Rcpp/include' -I'F:/biocbuild/bbs-3.17-bioc/R/library/RcppArmadillo/include'   -I"c:/rtools42/x86_64-w64-mingw32.static.posix/include"     -O2 -Wall  -mfpmath=sse -msse2 -mstackrealign  -c RcppExports.cpp -o RcppExports.o
g++  -std=gnu++11 -I"F:/biocbuild/bbs-3.17-bioc/R/include" -DNDEBUG  -I'F:/biocbuild/bbs-3.17-bioc/R/library/Rcpp/include' -I'F:/biocbuild/bbs-3.17-bioc/R/library/RcppArmadillo/include'   -I"c:/rtools42/x86_64-w64-mingw32.static.posix/include"     -O2 -Wall  -mfpmath=sse -msse2 -mstackrealign  -c fuzzy.cpp -o fuzzy.o
fuzzy.cpp: In function 'void UpdateCluster(arma::mat&, arma::mat&, arma::mat&, int&, bool&, double&)':
fuzzy.cpp:60:29: warning: value computed is not used [-Wunused-value]
   60 |                     min_dist<-Dist(g,k);
      |                     ~~~~~~~~^~~~~~~~~~~
fuzzy.cpp: In function 'Rcpp::List FuzzyClusterCpp(arma::cube, arma::mat, int, int, double)':
fuzzy.cpp:143:11: warning: comparison of integer expressions of different signedness: 'int' and 'size_t' {aka 'long long unsigned int'} [-Wsign-compare]
  143 |       if(C>=j) C = j-1;
      |          ~^~~
g++  -std=gnu++11 -I"F:/biocbuild/bbs-3.17-bioc/R/include" -DNDEBUG  -I'F:/biocbuild/bbs-3.17-bioc/R/library/Rcpp/include' -I'F:/biocbuild/bbs-3.17-bioc/R/library/RcppArmadillo/include'   -I"c:/rtools42/x86_64-w64-mingw32.static.posix/include"     -O2 -Wall  -mfpmath=sse -msse2 -mstackrealign  -c gibbs_2.cpp -o gibbs_2.o
gcc  -I"F:/biocbuild/bbs-3.17-bioc/R/include" -DNDEBUG  -I'F:/biocbuild/bbs-3.17-bioc/R/library/Rcpp/include' -I'F:/biocbuild/bbs-3.17-bioc/R/library/RcppArmadillo/include'   -I"c:/rtools42/x86_64-w64-mingw32.static.posix/include"     -O2 -Wall  -std=gnu99 -mfpmath=sse -msse2 -mstackrealign  -c signeR_init.c -o signeR_init.o
g++ -shared -s -static-libgcc -o signeR.dll tmp.def RcppExports.o fuzzy.o gibbs_2.o signeR_init.o -LF:/biocbuild/bbs-3.17-bioc/R/bin/x64 -lRlapack -LF:/biocbuild/bbs-3.17-bioc/R/bin/x64 -lRblas -lgfortran -lm -lquadmath -Lc:/rtools42/x86_64-w64-mingw32.static.posix/lib/x64 -Lc:/rtools42/x86_64-w64-mingw32.static.posix/lib -LF:/biocbuild/bbs-3.17-bioc/R/bin/x64 -lR
installing to F:/biocbuild/bbs-3.17-bioc-rtools43/meat/signeR.buildbin-libdir/00LOCK-signeR/00new/signeR/libs/x64
** R
** data
*** moving datasets to lazyload DB
** inst
** byte-compile and prepare package for lazy loading
** help
*** installing help indices
** building package indices
** installing vignettes
** testing if installed package can be loaded from temporary location
** testing if installed package can be loaded from final location
** testing if installed package keeps a record of temporary installation path
* MD5 sums
packaged installation of 'signeR' as signeR_2.1.0.zip
* DONE (signeR)