git_url: https://git.bioconductor.org/packages/sights git_branch: master git_last_commit: 3cf919c git_last_commit_date: 2022-11-01 11:13:53 -0500 (Tue, 01 Nov 2022) Package: sights Version: 1.25.0 Maintainer: Elika Garg MaintainerEmail: elika.garg at mail.mcgill.ca