Package: seqsetvis Version: 1.19.0 Command: rm -rf seqsetvis.buildbin-libdir && mkdir seqsetvis.buildbin-libdir && F:\biocbuild\bbs-3.17-bioc\R\bin\R.exe CMD INSTALL --build --library=seqsetvis.buildbin-libdir seqsetvis_1.19.0.tar.gz StartedAt: 2022-12-29 05:44:51 -0500 (Thu, 29 Dec 2022) EndedAt: 2022-12-29 05:45:36 -0500 (Thu, 29 Dec 2022) EllapsedTime: 44.8 seconds RetCode: 0 Status: OK PackageFile: seqsetvis_1.19.0.zip PackageFileSize: 1.471 MiB