Package: scuttle Version: 1.9.3 Command: F:\biocbuild\bbs-3.17-bioc\R\bin\R.exe CMD INSTALL scuttle StartedAt: 2022-12-28 15:44:35 -0500 (Wed, 28 Dec 2022) EndedAt: 2022-12-28 15:45:51 -0500 (Wed, 28 Dec 2022) EllapsedTime: 75.6 seconds RetCode: 0 Status: OK