Package: scuttle Version: 1.9.3 Command: chmod a+r scuttle -R && F:\biocbuild\bbs-3.17-bioc\R\bin\R.exe CMD build --keep-empty-dirs --no-resave-data scuttle StartedAt: 2022-12-28 20:31:23 -0500 (Wed, 28 Dec 2022) EndedAt: 2022-12-28 20:34:30 -0500 (Wed, 28 Dec 2022) EllapsedTime: 187.2 seconds RetCode: 0 Status: OK PackageFile: scuttle_1.9.3.tar.gz PackageFileSize: 958.6 KiB