Package: scuttle Version: 1.9.3 Command: rm -rf scuttle.buildbin-libdir && mkdir scuttle.buildbin-libdir && F:\biocbuild\bbs-3.17-bioc\R\bin\R.exe CMD INSTALL --build --library=scuttle.buildbin-libdir scuttle_1.9.3.tar.gz StartedAt: 2022-12-29 05:44:04 -0500 (Thu, 29 Dec 2022) EndedAt: 2022-12-29 05:45:26 -0500 (Thu, 29 Dec 2022) EllapsedTime: 82.1 seconds RetCode: 0 Status: OK PackageFile: scuttle_1.9.3.zip PackageFileSize: 1.537 MiB