Package: rqt Version: 1.25.0 Command: F:\biocbuild\bbs-3.17-bioc\R\bin\R.exe CMD check --no-multiarch --install=check:rqt.install-out.txt --library=F:\biocbuild\bbs-3.17-bioc\R\library --no-vignettes --timings rqt_1.25.0.tar.gz StartedAt: 2022-12-29 03:04:21 -0500 (Thu, 29 Dec 2022) EndedAt: 2022-12-29 03:06:31 -0500 (Thu, 29 Dec 2022) EllapsedTime: 129.3 seconds RetCode: 0 Status: OK CheckDir: rqt.Rcheck Warnings: 0