Package: rqt Version: 1.25.0 Command: chmod a+r rqt -R && F:\biocbuild\bbs-3.17-bioc\R\bin\R.exe CMD build --keep-empty-dirs --no-resave-data rqt StartedAt: 2022-12-28 20:16:56 -0500 (Wed, 28 Dec 2022) EndedAt: 2022-12-28 20:17:36 -0500 (Wed, 28 Dec 2022) EllapsedTime: 40.2 seconds RetCode: 0 Status: OK PackageFile: rqt_1.25.0.tar.gz PackageFileSize: 540 KiB