Package: riboSeqR Version: 1.33.0 Command: chmod a+r riboSeqR -R && F:\biocbuild\bbs-3.17-bioc\R\bin\R.exe CMD build --keep-empty-dirs --no-resave-data riboSeqR StartedAt: 2022-12-28 20:09:58 -0500 (Wed, 28 Dec 2022) EndedAt: 2022-12-28 20:10:27 -0500 (Wed, 28 Dec 2022) EllapsedTime: 30.0 seconds RetCode: 0 Status: OK PackageFile: riboSeqR_1.33.0.tar.gz PackageFileSize: 3.649 MiB