Package: recount3 Version: 1.9.0 Command: F:\biocbuild\bbs-3.17-bioc\R\bin\R.exe CMD INSTALL recount3 StartedAt: 2022-12-28 15:48:33 -0500 (Wed, 28 Dec 2022) EndedAt: 2022-12-28 15:49:05 -0500 (Wed, 28 Dec 2022) EllapsedTime: 31.2 seconds RetCode: 0 Status: OK